BEGIN:VCALENDAR
VERSION:2.0
PRODID:-//www.ndano.org//NONSGML kigkonsult.se iCalcreator 2.30.10//
CALSCALE:GREGORIAN
METHOD:PUBLISH
UID:ab208e58-e2ab-40b5-9d3b-8e03d12b6391
X-WR-CALDESC:<b>Presenter:</b> Tech Impact\n<b>Cost:</b> Free\n\n<b><a href
 ='https://offers.techimpact.org/training/accidental-techie?utm_campaign=Id
 ealware%20Integration&utm_medium=email&_hsmi=91912385&_hsenc=p2ANqtz-9coyB
 Zj6eKfeqX_qBrFdLE72rXYI7oQDjXjBVxRzCmx1oN3thUOgPKsDKE-zqLwg6bFgaSqNTw6e_2Z
 f_Hhl6oCbC-sA&utm_content=91912385&utm_source=hs_email' target='_blank' re
 l='noreferrer noopener'>REGISTER</a></b>\n\nAre you the person everyone at
  your small nonprofit looks to when the printer won’t work or the Wi-Fi is
  down?\nAre you the one with admin privileges for all your software? Do yo
 u have to carry out basic IT tasks such as run backups and install anti-vi
 rus software? Is IT only a small fraction of your job (but always threaten
 ing to take over)?\n\nLet Tech Impact help you through the big IT issues m
 any small nonprofits face. Tech Impacts' three-week course will provide yo
 u with the knowledge you need to support your nonprofit and its many IT ne
 eds.\n\nThrough participation in this course\, you will:\n\n<ul><li>Famili
 arize yourself with the basics of your organization’s infrastructure.</li>
 \n<li>Learn the fundamentals of networking and backing up shared files.</l
 i>\n<li>Discover best practices that will make you a more effective softwa
 re administrator.\n</li><li>Explore new software options.</li>\n<li>Review
  security risks and safety principles.</li>\n<li>Discuss technology planni
 ng and how to help everyone at your organization get what they need\nfrom 
 their technology resources.</li>\n<li>Learn how to keep your IT responsibi
 lities from taking over your job.</li></ul><b>Session 1: Hardware Infrastr
 ucture Basics</b>\nComputers\, printers\, phones\, routers—there are a lot
  of gadgets that can turn glitchy. This session will cover the basics you 
 need to know about the various pieces of hardware in a typical office and 
 review common troubleshooting techniques to keep them up and running. Tech
  Impact will also look at what you need to know to network computers\, kee
 p them connected\, and reliably back up files.\n\n<b>Session 2: Managing S
 oftware and Security</b>\nHow do you decide what software to choose when t
 here are hundreds of options\, each with their own unique features? And on
 ce you’ve chosen a software package\, how do you manage it so that your or
 ganization gets what it needs and is protected from security threats? We’l
 l answer these questions and more by reviewing frameworks to choose and ad
 minister your organization’s software.\n\n<b>Session 3: The Human Side of 
 Technology</b>\nIT isn’t just IT. A big part of the job is working directl
 y with people—both to fix small problems and undertake long-term planning.
  We’ll help you develop strategies for leading large-scale technology proj
 ects and pass on tips from our own in-house IT expert on the best ways to 
 work one-on-one with your colleagues.
X-WR-RELCALID:06694192965aad90623425f4b352a9ce
X-WR-TIMEZONE:America/Chicago
BEGIN:VTIMEZONE
TZID:America/Chicago
BEGIN:STANDARD
TZNAME:CST
DTSTART:20201101T020000
TZOFFSETFROM:-0500
TZOFFSETTO:-0600
RDATE:20211107T020000
END:STANDARD
BEGIN:DAYLIGHT
TZNAME:CDT
DTSTART:20200308T020000
TZOFFSETFROM:-0600
TZOFFSETTO:-0500
RDATE:20210314T020000
RDATE:20220313T020000
END:DAYLIGHT
END:VTIMEZONE
BEGIN:VEVENT
UID:934722ec-ebf3-474b-b8ce-f91ea31866e1
DTSTAMP:20260422T223430Z
DESCRIPTION:<b>Presenter:</b> Tech Impact\n<b>Cost:</b> Free\n\n<b><a href=
 'https://offers.techimpact.org/training/accidental-techie?utm_campaign=Ide
 alware%20Integration&utm_medium=email&_hsmi=91912385&_hsenc=p2ANqtz-9coyBZ
 j6eKfeqX_qBrFdLE72rXYI7oQDjXjBVxRzCmx1oN3thUOgPKsDKE-zqLwg6bFgaSqNTw6e_2Zf
 _Hhl6oCbC-sA&utm_content=91912385&utm_source=hs_email' target='_blank' rel
 ='noreferrer noopener'>REGISTER</a></b>\n\nAre you the person everyone at 
 your small nonprofit looks to when the printer won’t work or the Wi-Fi is 
 down?\nAre you the one with admin privileges for all your software? Do you
  have to carry out basic IT tasks such as run backups and install anti-vir
 us software? Is IT only a small fraction of your job (but always threateni
 ng to take over)?\n\nLet Tech Impact help you through the big IT issues ma
 ny small nonprofits face. Tech Impacts' three-week course will provide you
  with the knowledge you need to support your nonprofit and its many IT nee
 ds.\n\nThrough participation in this course\, you will:\n\n<ul><li>Familia
 rize yourself with the basics of your organization’s infrastructure.</li>
 \n<li>Learn the fundamentals of networking and backing up shared files.</l
 i>\n<li>Discover best practices that will make you a more effective softwa
 re administrator.\n</li><li>Explore new software options.</li>\n<li>Review
  security risks and safety principles.</li>\n<li>Discuss technology planni
 ng and how to help everyone at your organization get what they need\nfrom 
 their technology resources.</li>\n<li>Learn how to keep your IT responsibi
 lities from taking over your job.</li></ul><b>Session 1: Hardware Infrastr
 ucture Basics</b>\nComputers\, printers\, phones\, routers—there are a lot
  of gadgets that can turn glitchy. This session will cover the basics you 
 need to know about the various pieces of hardware in a typical office and 
 review common troubleshooting techniques to keep them up and running. Tech
  Impact will also look at what you need to know to network computers\, kee
 p them connected\, and reliably back up files.\n\n<b>Session 2: Managing S
 oftware and Security</b>\nHow do you decide what software to choose when t
 here are hundreds of options\, each with their own unique features? And on
 ce you’ve chosen a software package\, how do you manage it so that your or
 ganization gets what it needs and is protected from security threats? We’l
 l answer these questions and more by reviewing frameworks to choose and ad
 minister your organization’s software.\n\n<b>Session 3: The Human Side of 
 Technology</b>\nIT isn’t just IT. A big part of the job is working directl
 y with people—both to fix small problems and undertake long-term planning.
  We’ll help you develop strategies for leading large-scale technology proj
 ects and pass on tips from our own in-house IT expert on the best ways to 
 work one-on-one with your colleagues.
DTSTART;TZID=America/Chicago:20201203T120000
DTEND;TZID=America/Chicago:20201203T133000
LOCATION:Webinar Series
SUMMARY:Accidental Techie: How to Support Your Nonprofit Without an IT Back
 ground
END:VEVENT
END:VCALENDAR
