BEGIN:VCALENDAR
VERSION:2.0
PRODID:-//www.ndano.org//NONSGML kigkonsult.se iCalcreator 2.30.10//
CALSCALE:GREGORIAN
METHOD:PUBLISH
UID:8a4679ab-cb8d-419b-bbfb-8587db774ee2
X-WR-CALDESC:<b>Presenter:</b> Tech Impact\n<b>Cost:</b> Free\n\n<b><a href
 ='https://offers.techimpact.org/training/getting-the-most-technology-dolla
 r?utm_medium=email&_hsmi=105703685&_hsenc=p2ANqtz-_J1l0wzXT4CtU-3hjKmslFql
 qqV1bdSP5c1rjAkmpOicRgT2JhtGRN0JjgskLDbW8GL-82a-yXb_4nWxwSVHwnGSqTNw&utm_c
 ontent=105703685&utm_source=hs_email'>REGISTER</a></b>\n\nDo you know when
  and where to spend your organization’s limited technology budget\, or how
  to get the best return?\n\nJoin the conversation as Tech Impact shares re
 search and results from their sector-wide survey—as well as the expertise 
 and hard-earned lessons from nonprofits like yours—in an online forum desi
 gned to help you identify which decisions are most likely to pay off and w
 hich will lead to disappointment. Tech Impact walks through some of the mo
 st interesting findings from The State of Technology Decision-Making and R
 OI Among Nonprofits\, and the panel of experts will show you…\n\n•	How to m
 easure the true return on a technology investment\n•	What the most frequent
 ly overlooked hidden costs are\n•	How to maximize value\n\nThey will also m
 ake time to answer questions from the audience. Don’t miss this opportunit
 y to make the most of your 2021 budget priorities.\n\n<b>Speakers:</b> \nK
 aren Graham - Director of Education and Outreach\, Tech Impact\nPatrick Ca
 llihan - Executive Director\, Tech Impact\nJeanne Bell - Director\, Advanc
 ing Practice\, Nonprofit Quarterly\n
X-WR-RELCALID:6b3ee207f8131183b5d836974e412cb0
X-WR-TIMEZONE:America/Chicago
BEGIN:VTIMEZONE
TZID:America/Chicago
BEGIN:STANDARD
TZNAME:CST
DTSTART:20201101T020000
TZOFFSETFROM:-0500
TZOFFSETTO:-0600
RDATE:20211107T020000
END:STANDARD
BEGIN:DAYLIGHT
TZNAME:CDT
DTSTART:20200308T020000
TZOFFSETFROM:-0600
TZOFFSETTO:-0500
RDATE:20210314T020000
RDATE:20220313T020000
END:DAYLIGHT
END:VTIMEZONE
BEGIN:VEVENT
UID:3234cdc5-8394-4b6d-a13f-23acfe23ef84
DTSTAMP:20260423T021635Z
DESCRIPTION:<b>Presenter:</b> Tech Impact\n<b>Cost:</b> Free\n\n<b><a href=
 'https://offers.techimpact.org/training/getting-the-most-technology-dollar
 ?utm_medium=email&_hsmi=105703685&_hsenc=p2ANqtz-_J1l0wzXT4CtU-3hjKmslFqlq
 qV1bdSP5c1rjAkmpOicRgT2JhtGRN0JjgskLDbW8GL-82a-yXb_4nWxwSVHwnGSqTNw&utm_co
 ntent=105703685&utm_source=hs_email'>REGISTER</a></b>\n\nDo you know when 
 and where to spend your organization’s limited technology budget\, or how 
 to get the best return?\n\nJoin the conversation as Tech Impact shares res
 earch and results from their sector-wide survey—as well as the expertise a
 nd hard-earned lessons from nonprofits like yours—in an online forum desig
 ned to help you identify which decisions are most likely to pay off and wh
 ich will lead to disappointment. Tech Impact walks through some of the mos
 t interesting findings from The State of Technology Decision-Making and RO
 I Among Nonprofits\, and the panel of experts will show you…\n\n•	How to me
 asure the true return on a technology investment\n•	What the most frequentl
 y overlooked hidden costs are\n•	How to maximize value\n\nThey will also ma
 ke time to answer questions from the audience. Don’t miss this opportunity
  to make the most of your 2021 budget priorities.\n\n<b>Speakers:</b> \nKa
 ren Graham - Director of Education and Outreach\, Tech Impact\nPatrick Cal
 lihan - Executive Director\, Tech Impact\nJeanne Bell - Director\, Advanci
 ng Practice\, Nonprofit Quarterly\n
DTSTART;TZID=America/Chicago:20210120T120000
DTEND;TZID=America/Chicago:20210120T130000
LOCATION:Webinar
SUMMARY:Are You Getting the Most for Your Technology Dollar?
END:VEVENT
END:VCALENDAR
