BEGIN:VCALENDAR
VERSION:2.0
PRODID:-//www.ndano.org//NONSGML kigkonsult.se iCalcreator 2.30.10//
CALSCALE:GREGORIAN
METHOD:PUBLISH
UID:a8f4728c-f5c7-4698-8642-dab8ac9207f7
X-WR-CALDESC:Presenter: Association of Fundraising Professionals \nCost: Fr
 ee \n\n10 a.m. to 11 a.m. - Wayne Olson from Intermountain Healthcare and 
 the author of 'The Disney Difference\, The Complete Guide to Adding Disney
 -Like Magic to Your Corporation or Organization' will be speaking about do
 nor relations and fundraising in his session 'To Get More Gifts\, Think Li
 ke a Donor.' \n\n11 a.m. - 12 p.m. - Short presentations on pandemic succe
 ss stories from across North Dakota and Minnesota. \n\n12 p.m. - 1:00 p.m.
  - Aliguma Young\, MBA\, CEO and founder of the Super Fundraiser will be s
 peaking on her experience with fundraising more than $100\,000\,000 for no
 nprofit organizations in her session 'Building Long Distance Relationships
 .' \n\n\n\n\n
X-WR-RELCALID:e97d56ea5213e4ffcc05790f01a0424f
X-WR-TIMEZONE:America/Chicago
BEGIN:VTIMEZONE
TZID:America/Chicago
BEGIN:STANDARD
TZNAME:CST
DTSTART:20201101T020000
TZOFFSETFROM:-0500
TZOFFSETTO:-0600
RDATE:20211107T020000
RDATE:20221106T020000
END:STANDARD
BEGIN:DAYLIGHT
TZNAME:CDT
DTSTART:20210314T020000
TZOFFSETFROM:-0600
TZOFFSETTO:-0500
RDATE:20220313T020000
END:DAYLIGHT
END:VTIMEZONE
BEGIN:VEVENT
UID:fb03bc59-7675-424b-9b00-6bd8282acb9b
DTSTAMP:20260424T230309Z
DESCRIPTION:Presenter: Association of Fundraising Professionals \nCost: Fre
 e \n\n10 a.m. to 11 a.m. - Wayne Olson from Intermountain Healthcare and t
 he author of 'The Disney Difference\, The Complete Guide to Adding Disney-
 Like Magic to Your Corporation or Organization' will be speaking about don
 or relations and fundraising in his session 'To Get More Gifts\, Think Lik
 e a Donor.' \n\n11 a.m. - 12 p.m. - Short presentations on pandemic succes
 s stories from across North Dakota and Minnesota. \n\n12 p.m. - 1:00 p.m. 
 - Aliguma Young\, MBA\, CEO and founder of the Super Fundraiser will be sp
 eaking on her experience with fundraising more than $100\,000\,000 for non
 profit organizations in her session 'Building Long Distance Relationships.
 ' \n\n\n\n\n
DTSTART;TZID=America/Chicago:20210714T100000
DTEND;TZID=America/Chicago:20210714T130000
LOCATION:Webinar
SUMMARY:AFP Northern Plains Chapter Summer Morning of Training
END:VEVENT
END:VCALENDAR
