BEGIN:VCALENDAR
VERSION:2.0
PRODID:-//www.ndano.org//NONSGML kigkonsult.se iCalcreator 2.30.10//
CALSCALE:GREGORIAN
METHOD:PUBLISH
UID:7f97e0ec-2094-4452-bf3a-d76c41e810cf
X-WR-CALDESC:<b>Presenter:</b> Propel Nonprofits\n<b>Cost:</b> Free\n\n<b><
 a href='https://www.propelnonprofits.org/trainings/scenario-planning-in-un
 certain-times-2/'>REGISTER</a></b>\n\nWe all have learned skills to build 
 assumptions that reliably helped us predict the next year or two for our o
 rganizations. But do you find your carefully developed budgets\, forecasts
 \, and plans suddenly have been turned upside down? Now you’re not sure yo
 ur tools still work\, but you know you must do something. \n\nJoin Propel 
 Nonprofits as they explore how to assess your current and future financial
  positions by developing new scenario and contingency plans for your organ
 izations. The webinar will provide techniques and approaches to having pra
 ctical conversations critical to organizational decision making\, while al
 so providing analytical tools to assist in gauging the risks to your incom
 e and the flexibility of your expenses.\n\n<b>Presenter:</b> \nSarah Jacks
 on\nJackson has been working with or for nonprofit organizations in Minnes
 ota for more than a decade in various roles including as executive directo
 r of the Minnesota News Council and program director for the Minnesota New
 spaper Association. Knowledge of nonprofit finance once eluded her\, but n
 ow she loves helping nonprofit leaders decipher and understand the often e
 xclusionary language of finance. As a lender\, trainer and partner\, Jacks
 on works closely with nonprofits in the upper Midwest supporting their imp
 ortant mission-driven work. She earned degrees in Journalism and Philosoph
 y from the University of Minnesota – Twin Cities. She love books\, newspap
 ers\, travel\, cooking\, sports\, and Lake Superior.\n\nMary Ann Ehlshlage
 r\nEhlshlager's decades of experience in nonprofit leadership have shown h
 er that excellence in financial management is critical not just to the ste
 wardship of balance sheets\, but to empowering nonprofits to achieve the g
 reatest mission impact. Collaborative by nature\, she enjoys de-mystifying
  financial leadership for volunteers and staff throughout an organization.
  Ehlshlager is originally from Virginia but her work as an executive direc
 tor in nonprofit theatres has allowed her to serve the nonprofit sectors i
 n New York\, Delaware\, and Washington. Ehlshlager is thrilled to be back 
 in Minnesota where\, earlier in her career\, she served as the Project Man
 ager for the new Guthrie Theatre. Her hobbies include public history\, rep
 arative genealogy\, and riding her motorcycle.
X-WR-RELCALID:2db7d978aa5ecaa2404140d2d24bc0a6
X-WR-TIMEZONE:America/Chicago
BEGIN:VTIMEZONE
TZID:America/Chicago
BEGIN:STANDARD
TZNAME:CST
DTSTART:20201101T020000
TZOFFSETFROM:-0500
TZOFFSETTO:-0600
RDATE:20211107T020000
RDATE:20221106T020000
END:STANDARD
BEGIN:DAYLIGHT
TZNAME:CDT
DTSTART:20210314T020000
TZOFFSETFROM:-0600
TZOFFSETTO:-0500
RDATE:20220313T020000
END:DAYLIGHT
END:VTIMEZONE
BEGIN:VEVENT
UID:8eb84458-bddc-467c-af18-95ee980fd11d
DTSTAMP:20260424T230012Z
DESCRIPTION:<b>Presenter:</b> Propel Nonprofits\n<b>Cost:</b> Free\n\n<b><a
  href='https://www.propelnonprofits.org/trainings/scenario-planning-in-unc
 ertain-times-2/'>REGISTER</a></b>\n\nWe all have learned skills to build a
 ssumptions that reliably helped us predict the next year or two for our or
 ganizations. But do you find your carefully developed budgets\, forecasts\
 , and plans suddenly have been turned upside down? Now you’re not sure you
 r tools still work\, but you know you must do something. \n\nJoin Propel N
 onprofits as they explore how to assess your current and future financial 
 positions by developing new scenario and contingency plans for your organi
 zations. The webinar will provide techniques and approaches to having prac
 tical conversations critical to organizational decision making\, while als
 o providing analytical tools to assist in gauging the risks to your income
  and the flexibility of your expenses.\n\n<b>Presenter:</b> \nSarah Jackso
 n\nJackson has been working with or for nonprofit organizations in Minneso
 ta for more than a decade in various roles including as executive director
  of the Minnesota News Council and program director for the Minnesota News
 paper Association. Knowledge of nonprofit finance once eluded her\, but no
 w she loves helping nonprofit leaders decipher and understand the often ex
 clusionary language of finance. As a lender\, trainer and partner\, Jackso
 n works closely with nonprofits in the upper Midwest supporting their impo
 rtant mission-driven work. She earned degrees in Journalism and Philosophy
  from the University of Minnesota – Twin Cities. She love books\, newspape
 rs\, travel\, cooking\, sports\, and Lake Superior.\n\nMary Ann Ehlshlager
 \nEhlshlager's decades of experience in nonprofit leadership have shown he
 r that excellence in financial management is critical not just to the stew
 ardship of balance sheets\, but to empowering nonprofits to achieve the gr
 eatest mission impact. Collaborative by nature\, she enjoys de-mystifying 
 financial leadership for volunteers and staff throughout an organization. 
 Ehlshlager is originally from Virginia but her work as an executive direct
 or in nonprofit theatres has allowed her to serve the nonprofit sectors in
  New York\, Delaware\, and Washington. Ehlshlager is thrilled to be back i
 n Minnesota where\, earlier in her career\, she served as the Project Mana
 ger for the new Guthrie Theatre. Her hobbies include public history\, repa
 rative genealogy\, and riding her motorcycle.
DTSTART;TZID=America/Chicago:20210721T120000
DTEND;TZID=America/Chicago:20210721T130000
LOCATION:Webinar
SUMMARY:Scenario Planning in Uncertain Times
END:VEVENT
END:VCALENDAR
