BEGIN:VCALENDAR
VERSION:2.0
PRODID:-//www.ndano.org//NONSGML kigkonsult.se iCalcreator 2.30.10//
CALSCALE:GREGORIAN
METHOD:PUBLISH
UID:b089c7a0-0aa3-4237-8bb7-743b7a0d613f
X-WR-CALDESC:Presenter: Eide Bailly\nCost: Free\n\nHave you created a cultu
 re of a security within your organization? It's not a matter of if an inci
 dent will occur\, it's a matter of when. Planning for a cybersecurity inci
 dent now can save you time and money in the future. Not getting cybersecur
 ity right could mean going out of business should a breach occur. Create a
  culture of security\, learn more about current trends and understand next
  steps.\n\n<b>Learning Objectives:</b>\n- Review cybersecurity trends \n- 
 Identify the risks of error for your organization\n- Outline next steps to
  mitigate risk\n\n<b>Presenter:</b>\n<b>Michael Nouguier</b> is the Direct
 or of Cybersecurity at Eide Bailly. Nouguier focuses on building strategy 
 and hope through innovative cybersecurity solutions. He works with organiz
 ations to identify the root causes of concern to remediate risk and build 
 a greater security posture. When working with an organization Nouguier not
  only takes the time to truly understand the challenges being faced but al
 so guides clients to the best solution while educating them on cybersecuri
 ty concepts throughout the entire process.
X-WR-RELCALID:b4b964fa811a89bf2e79a7d9f0c58903
X-WR-TIMEZONE:America/Chicago
BEGIN:VTIMEZONE
TZID:America/Chicago
BEGIN:STANDARD
TZNAME:CST
DTSTART:20201101T020000
TZOFFSETFROM:-0500
TZOFFSETTO:-0600
RDATE:20211107T020000
RDATE:20221106T020000
END:STANDARD
BEGIN:DAYLIGHT
TZNAME:CDT
DTSTART:20210314T020000
TZOFFSETFROM:-0600
TZOFFSETTO:-0500
RDATE:20220313T020000
END:DAYLIGHT
END:VTIMEZONE
BEGIN:VEVENT
UID:197b69b7-96a2-4cff-842d-9910eb5868af
DTSTAMP:20260424T230217Z
DESCRIPTION:Presenter: Eide Bailly\nCost: Free\n\nHave you created a cultur
 e of a security within your organization? It's not a matter of if an incid
 ent will occur\, it's a matter of when. Planning for a cybersecurity incid
 ent now can save you time and money in the future. Not getting cybersecuri
 ty right could mean going out of business should a breach occur. Create a 
 culture of security\, learn more about current trends and understand next 
 steps.\n\n<b>Learning Objectives:</b>\n- Review cybersecurity trends \n- I
 dentify the risks of error for your organization\n- Outline next steps to 
 mitigate risk\n\n<b>Presenter:</b>\n<b>Michael Nouguier</b> is the Directo
 r of Cybersecurity at Eide Bailly. Nouguier focuses on building strategy a
 nd hope through innovative cybersecurity solutions. He works with organiza
 tions to identify the root causes of concern to remediate risk and build a
  greater security posture. When working with an organization Nouguier not 
 only takes the time to truly understand the challenges being faced but als
 o guides clients to the best solution while educating them on cybersecurit
 y concepts throughout the entire process.
DTSTART;TZID=America/Chicago:20210727T130000
DTEND;TZID=America/Chicago:20210727T140000
LOCATION:Webinar
SUMMARY:Cybersecurity Within Nonprofits
END:VEVENT
END:VCALENDAR
