BEGIN:VCALENDAR
VERSION:2.0
PRODID:-//www.ndano.org//NONSGML kigkonsult.se iCalcreator 2.30.10//
CALSCALE:GREGORIAN
METHOD:PUBLISH
UID:7ef20e87-075e-43b4-9b4b-bb4e7505c56a
X-WR-CALDESC:Presenter: Productive Fundraising\nCost: Free\n\n Join fundrai
 sing master trainer\, Chad Barger\, CFRE\, for a review of the best practi
 ces in writing fundraising appeal letters. Chad will boil down the researc
 h from top fundraising experts to provide actionable tips on both how to w
 rite content that spurs action and how to actually get prospects to open t
 he envelope
X-WR-RELCALID:8adfaea6fb540f7946c943f55199ca10
X-WR-TIMEZONE:America/Chicago
BEGIN:VTIMEZONE
TZID:America/Chicago
BEGIN:STANDARD
TZNAME:CST
DTSTART:20221106T020000
TZOFFSETFROM:-0500
TZOFFSETTO:-0600
RDATE:20231105T020000
RDATE:20241103T020000
END:STANDARD
BEGIN:DAYLIGHT
TZNAME:CDT
DTSTART:20230312T020000
TZOFFSETFROM:-0600
TZOFFSETTO:-0500
RDATE:20240310T020000
END:DAYLIGHT
END:VTIMEZONE
BEGIN:VEVENT
UID:1ae0c6a0-868b-46e6-8321-4977e323894a
DTSTAMP:20260426T013716Z
DESCRIPTION:Presenter: Productive Fundraising\nCost: Free\n\n Join fundrais
 ing master trainer\, Chad Barger\, CFRE\, for a review of the best practic
 es in writing fundraising appeal letters. Chad will boil down the research
  from top fundraising experts to provide actionable tips on both how to wr
 ite content that spurs action and how to actually get prospects to open th
 e envelope
DTSTART;TZID=America/Chicago:20230831T120000
DTEND;TZID=America/Chicago:20230831T130000
LOCATION:https://productivefundraising.com/event/fundraising-appeals/
SUMMARY:10 Quick Tips to Supercharge Your Next Fundraising Appeal
END:VEVENT
END:VCALENDAR
