BEGIN:VCALENDAR
VERSION:2.0
PRODID:-//www.ndano.org//NONSGML kigkonsult.se iCalcreator 2.30.10//
CALSCALE:GREGORIAN
METHOD:PUBLISH
UID:d8ed37c5-543b-43ef-8309-17ab2432f272
X-WR-CALDESC:Presenter: Nonprofit Risk Management Center\nCost: Free\n\nArt
 ificial intelligence can provide opportunities for stretched nonprofits to
  automate routine tasks and direct more staff time to mission-critical wor
 k. But AI also presents safety\, security\, and ethical risks to nonprofit
  teams and the people they serve. Learn what you need to consider as you e
 valuate AI use in your organization.
X-WR-RELCALID:fe21a6e28222aa1fefeacd896150ae34
X-WR-TIMEZONE:America/Chicago
BEGIN:VTIMEZONE
TZID:America/Chicago
BEGIN:STANDARD
TZNAME:CST
DTSTART:20231105T020000
TZOFFSETFROM:-0500
TZOFFSETTO:-0600
RDATE:20241103T020000
RDATE:20251102T020000
END:STANDARD
BEGIN:DAYLIGHT
TZNAME:CDT
DTSTART:20240310T020000
TZOFFSETFROM:-0600
TZOFFSETTO:-0500
RDATE:20250309T020000
END:DAYLIGHT
END:VTIMEZONE
BEGIN:VEVENT
UID:cdd14ea7-fd57-49eb-8589-138e2f82d6e7
DTSTAMP:20260423T234922Z
DESCRIPTION:Presenter: Nonprofit Risk Management Center\nCost: Free\n\nArti
 ficial intelligence can provide opportunities for stretched nonprofits to 
 automate routine tasks and direct more staff time to mission-critical work
 . But AI also presents safety\, security\, and ethical risks to nonprofit 
 teams and the people they serve. Learn what you need to consider as you ev
 aluate AI use in your organization.
DTSTART;TZID=America/Chicago:20240515T130000
DTEND;TZID=America/Chicago:20240515T140000
LOCATION:https://us02web.zoom.us/webinar/register/WN_Q7_1ucVxTgW0Hjz2vfDwIw
 #/registration
SUMMARY:Artificial Intelligence Risks for Nonprofits
END:VEVENT
END:VCALENDAR
