BEGIN:VCALENDAR
VERSION:2.0
PRODID:-//www.ndano.org//NONSGML kigkonsult.se iCalcreator 2.30.10//
CALSCALE:GREGORIAN
METHOD:PUBLISH
UID:24e4c851-8846-4b1d-b68a-f76fb71f9e9e
X-WR-CALDESC:Presenter: Minnesota Council of Nonprofits\nCost: $50 NDANO me
 mbers\, nonmembers $70\n\nTO RECEIVE MEMBER PRICING\, GO TO THE MEMBERS-ON
 LY PORTAL FOR THE CODE\n\nMany organizations have experienced an employee 
 with vast institutional knowledge leaving for another job or retiring and 
 the organization was uncertain how to have a smooth transition to the next
  chapter. Often in such times information may fall through the cracks and 
 countless hours of staff time are spent onboarding and training new employ
 ees who have big shoes to fill and do not know where to begin. This worksh
 op is intended to provide an overview\, practices\, and some tools that ma
 y help such changes to run more smoothly through transition\, succession a
 nd back up planning.\n\nLearning Objectives:\n\n- Learn approaches and tec
 hniques for how to start succession and back up planning\n- Exposure to to
 ols that may help with succession and back up planning\n- Learn from examp
 les of case studies of what to do and not to do
X-WR-RELCALID:52c45375892e47dbf5a5219d9aee8faf
X-WR-TIMEZONE:America/Chicago
BEGIN:VTIMEZONE
TZID:America/Chicago
BEGIN:STANDARD
TZNAME:CST
DTSTART:20241103T020000
TZOFFSETFROM:-0500
TZOFFSETTO:-0600
RDATE:20251102T020000
END:STANDARD
BEGIN:DAYLIGHT
TZNAME:CDT
DTSTART:20240310T020000
TZOFFSETFROM:-0600
TZOFFSETTO:-0500
RDATE:20250309T020000
RDATE:20260308T020000
END:DAYLIGHT
END:VTIMEZONE
BEGIN:VEVENT
UID:c51b3c63-5e5d-416e-9706-b962cd34fa2f
DTSTAMP:20260425T185859Z
DESCRIPTION:Presenter: Minnesota Council of Nonprofits\nCost: $50 NDANO mem
 bers\, nonmembers $70\n\nTO RECEIVE MEMBER PRICING\, GO TO THE MEMBERS-ONL
 Y PORTAL FOR THE CODE\n\nMany organizations have experienced an employee w
 ith vast institutional knowledge leaving for another job or retiring and t
 he organization was uncertain how to have a smooth transition to the next 
 chapter. Often in such times information may fall through the cracks and c
 ountless hours of staff time are spent onboarding and training new employe
 es who have big shoes to fill and do not know where to begin. This worksho
 p is intended to provide an overview\, practices\, and some tools that may
  help such changes to run more smoothly through transition\, succession an
 d back up planning.\n\nLearning Objectives:\n\n- Learn approaches and tech
 niques for how to start succession and back up planning\n- Exposure to too
 ls that may help with succession and back up planning\n- Learn from exampl
 es of case studies of what to do and not to do
DTSTART;TZID=America/Chicago:20250122T100000
DTEND;TZID=America/Chicago:20250122T110000
LOCATION:https://minnesotanonprofits.org/event/succession-and-transition-pl
 anning-how-to-begin
SUMMARY:Succession and Transition Planning: How to Begin
END:VEVENT
END:VCALENDAR
