BEGIN:VCALENDAR
VERSION:2.0
PRODID:-//www.ndano.org//NONSGML kigkonsult.se iCalcreator 2.30.10//
CALSCALE:GREGORIAN
METHOD:PUBLISH
UID:e9ab7b15-de4b-4c00-9bee-ba86aac6471d
X-WR-CALDESC:Presenter: Minot State University\nCost: Free\n\nThe Resilienc
 e Through Connection ECHO® aims to provide a deep exploration of the vario
 us factors that impact social connection and the predictors of loneliness.
  Sessions will be tailored with strategies to increase life skills\, resil
 ience\, and foster a sense of connectedness for people with disabilities a
 nd individuals with poor mental health. This includes enhancing knowledge 
 of protective factors against suicide\, emphasizing the importance of soci
 al connectedness\, and raising awareness of ND resources and activities th
 at promote a sense of belonging.
X-WR-RELCALID:dcc3a04e8c000c789ba9abed25a45702
X-WR-TIMEZONE:America/Chicago
BEGIN:VTIMEZONE
TZID:America/Chicago
BEGIN:STANDARD
TZNAME:CST
DTSTART:20251102T020000
TZOFFSETFROM:-0500
TZOFFSETTO:-0600
RDATE:20261101T020000
RDATE:20271107T020000
END:STANDARD
BEGIN:DAYLIGHT
TZNAME:CDT
DTSTART:20260308T020000
TZOFFSETFROM:-0600
TZOFFSETTO:-0500
RDATE:20270314T020000
END:DAYLIGHT
END:VTIMEZONE
BEGIN:VEVENT
UID:90c4917d-6eb1-43e4-af37-7d2227e1a386
DTSTAMP:20260422T203900Z
DESCRIPTION:Presenter: Minot State University\nCost: Free\n\nThe Resilience
  Through Connection ECHO® aims to provide a deep exploration of the variou
 s factors that impact social connection and the predictors of loneliness. 
 Sessions will be tailored with strategies to increase life skills\, resili
 ence\, and foster a sense of connectedness for people with disabilities an
 d individuals with poor mental health. This includes enhancing knowledge o
 f protective factors against suicide\, emphasizing the importance of socia
 l connectedness\, and raising awareness of ND resources and activities tha
 t promote a sense of belonging.
DTSTART;TZID=America/Chicago:20260527T120000
DTEND;TZID=America/Chicago:20260527T130000
LOCATION:https://iecho.org/public/program/PRGM1730998614688Y3YPLDFZE1
SUMMARY:Resilience Through Connection ECHO
END:VEVENT
END:VCALENDAR
