BEGIN:VCALENDAR
VERSION:2.0
PRODID:-//www.ndano.org//NONSGML kigkonsult.se iCalcreator 2.30.10//
CALSCALE:GREGORIAN
METHOD:PUBLISH
UID:dab3e3cd-ed99-4f9a-9e08-3eb97281d57d
X-WR-CALDESC:Presenter: Utah Nonprofit Association\nCost: \nNDANO Members: 
 $200 for the first person/$40 for each additional participant\nNot-Yet Mem
 bers: $400 for the first person/$80 for each additional participant\n\nTHE
  DISCOUNT CODE IS LISTED IN MEMBERS-ONLY PORTAL\n\n
X-WR-RELCALID:64aa78c486b7422fbd3f9079cbb7eb16
X-WR-TIMEZONE:America/Chicago
BEGIN:VTIMEZONE
TZID:America/Chicago
BEGIN:STANDARD
TZNAME:CST
DTSTART:20251102T020000
TZOFFSETFROM:-0500
TZOFFSETTO:-0600
RDATE:20261101T020000
RDATE:20271107T020000
END:STANDARD
BEGIN:DAYLIGHT
TZNAME:CDT
DTSTART:20260308T020000
TZOFFSETFROM:-0600
TZOFFSETTO:-0500
RDATE:20270314T020000
END:DAYLIGHT
END:VTIMEZONE
BEGIN:VEVENT
UID:07d5cea7-6492-47d4-bf03-c41602119efb
DTSTAMP:20260421T084103Z
DESCRIPTION:Presenter: Utah Nonprofit Association\nCost: \nNDANO Members: $
 200 for the first person/$40 for each additional participant\nNot-Yet Memb
 ers: $400 for the first person/$80 for each additional participant\n\nTHE 
 DISCOUNT CODE IS LISTED IN MEMBERS-ONLY PORTAL\n\n
DTSTART;TZID=America/Chicago:20260610T103000
DTEND;TZID=America/Chicago:20260610T163000
LOCATION:https://members.utahnonprofits.org/una-event-calendar/Details/2026
 -nonprofit-credential-in-board-governance-1509437?sourceTypeId=Website
SUMMARY:2026 Nonprofit Credential in Board Governance
END:VEVENT
END:VCALENDAR
